BEGIN:VCALENDAR
VERSION:2.0
PRODID:icalendar-ruby
CALSCALE:GREGORIAN
METHOD:PUBLISH
BEGIN:VEVENT
DTSTAMP:20260424T122834Z
UID:30-469658@tbcfreedom.org
DTSTART:20260417T230000Z
DTEND:20260501T140000Z
CLASS:PUBLIC
CREATED:20260422T075346
DESCRIPTION:UNDULATING CONSECRATING FAST\nA call to personal consecration\,
  repentance\, prayer\, and righteous alignment\nOverall Focus\nPersonal co
 nsecration before the Lord through repentance\, renunciation of sin and un
 godly strongholds\, cleansing\, inner healing\, and full surrender to God.
  A call to be purified in heart\, mind\, motives\, and conduct\; to break 
 agreement with sin\, bondage\, and generational patterns\; and to receive 
 the filling of the Holy Spirit for righteous living\, freedom\, and deeper
  alignment with the will of God.\nWeek 1 – Personal Consecration 6:00PM 
 - 6:00AM\nPersonal repentance\, inner cleansing\, breaking agreement with 
 sin and generational bondage\, and receiving the filling of the Holy Spiri
 t for holy and transformed living.\nWeek 2 – Personal Consecration 9:00P
 M - 9:00AM\nRenouncing sin\, strongholds\, and ungodly patterns\; seeking 
 mercy\, healing\, deliverance\, and the infilling of the Holy Spirit for r
 ighteous living.\nKey Scriptures\nMark 7:21–23\nGalatians 5:19–21\nMat
 thew 23:12–16\nJames 2:4–5\n 
LAST-MODIFIED:20260422T075346
LOCATION:
SUMMARY:UNDULATING CONSECRATING FAST
URL;VALUE=URI:https://www.tbcfreedom.org/events/undulating-consecrating-fas
 t/2026-04-17
ATTACH;FILENAME=consecration.jpeg;FMTTYPE=image/jpeg:https://dq5pwpg1q8ru0.
 cloudfront.net/2026/04/21/21/10/40/d41081d0-44ed-4dd6-930f-6b37ed79fcb8/co
 nsecration.jpeg
END:VEVENT
END:VCALENDAR
